BEGIN:VCALENDAR
VERSION:2.0
PRODID:-//85.13.152.58//NONSGML kigkonsult.se iCalcreator 2.20//
CALSCALE:GREGORIAN
METHOD:PUBLISH
X-WR-TIMEZONE:Europe/Berlin
BEGIN:VEVENT
UID:event465@VKHD e.V. 
DTSTAMP:20260420T164239Z
CATEGORIES:Online-Seminare
DESCRIPTION:Fallanalyse und Mittelfindung nach G.H.G. Jahr - Live-Webinar J
 ens Ahlbrecht \nKategorie: Online-Seminare\nICS-Link: https://www.vkhd.de/
 index.php?option=com_jem&view=event&id=465:fallanalyse-und-mittelfindung-n
 ach-g-h-g-jahr-live-webinar-jens-ahlbrecht\n
DTSTART;TZID=Europe/Berlin:20200420T190000
DTEND;TZID=Europe/Berlin:20200420T203000
SUMMARY:Fallanalyse und Mittelfindung nach G.H.G. Jahr - Live-Webinar Jens 
 Ahlbrecht 
URL:https://www.vkhd.de/index.php?option=com_jem&view=event&id=465:fallanal
 yse-und-mittelfindung-nach-g-h-g-jahr-live-webinar-jens-ahlbrecht
END:VEVENT
END:VCALENDAR
