BEGIN:VCALENDAR
VERSION:2.0
PRODID:-//85.13.152.58//NONSGML kigkonsult.se iCalcreator 2.20//
CALSCALE:GREGORIAN
METHOD:PUBLISH
X-WR-TIMEZONE:Europe/Berlin
BEGIN:VEVENT
UID:event766@VKHD e.V. 
DTSTAMP:20260425T025847Z
CATEGORIES:Homöopathie
DESCRIPTION:Psychiatrie und Homöopathie - Dr. Mahesh Gandhi\nKategorie: Hom
 öopathie\nICS-Link: https://www.vkhd.de/index.php?option=com_jem&view=even
 t&id=766:psychiatrie-und-homoeopathie-dr-mahesh-gandhi\n
DTSTART;TZID=Europe/Berlin:20230609T093000
DTEND;TZID=Europe/Berlin:20230611T130000
SUMMARY:Psychiatrie und Homöopathie - Dr. Mahesh Gandhi
URL:https://www.vkhd.de/index.php?option=com_jem&view=event&id=766:psychiat
 rie-und-homoeopathie-dr-mahesh-gandhi
END:VEVENT
END:VCALENDAR
